BEGIN:VCALENDAR
VERSION:2.0
PRODID:-//Eventin//Event Calendar//EN
CALSCALE:GREGORIAN
METHOD:PUBLISH
BEGIN:VEVENT
UID:15be35ce9479f9cdad70a018547dae01@fpratreasurecoast.com
SUMMARY:Speed Networking
DESCRIPTION:Join the Treasure Coast Chapter of the Florida Public Relations
  Association for our May Membership Meeting and take part in our second ann
 ual Speed Networking Event! \n\n\n\nThis guided round table offers a chanc
 e to spend one-on-one time with fellow communications professionals and stu
 dents\, build mutually beneficial relationships\, and expand your web of co
 ntacts. It's an opportunity to learn from other people's experiences and pe
 rspectives\, discover new opportunities\, and increase your chances of prof
 essional growth. So\, if you are interested in meeting new people\, buildin
 g upon existing relationships\, and expanding your circle\, join us for thi
 s speed networking event and begin your journey toward greatness!\n\n\n\nAr
 rive early for a light continental breakfast. The networking session will b
 egin at 9 a.m.
LOCATION:3209 Virginia Ave\, Building V\nFort Pierce\, FL 34981
DTSTAMP:20260423T154620Z
DTSTART:20230518T123000Z
DTEND:20260423T140000Z
END:VEVENT
END:VCALENDAR
